BEGIN:VCALENDAR
VERSION:2.0
PRODID:-//Burg Rheinfels in St. Goar - ECPv6.15.20//NONSGML v1.0//EN
CALSCALE:GREGORIAN
METHOD:PUBLISH
X-ORIGINAL-URL:https://www.burg-rheinfels.org
X-WR-CALDESC:Veranstaltungen für Burg Rheinfels in St. Goar
REFRESH-INTERVAL;VALUE=DURATION:PT1H
X-Robots-Tag:noindex
X-PUBLISHED-TTL:PT1H
BEGIN:VTIMEZONE
TZID:Europe/Berlin
BEGIN:DAYLIGHT
TZOFFSETFROM:+0100
TZOFFSETTO:+0200
TZNAME:CEST
DTSTART:20240331T010000
END:DAYLIGHT
BEGIN:STANDARD
TZOFFSETFROM:+0200
TZOFFSETTO:+0100
TZNAME:CET
DTSTART:20241027T010000
END:STANDARD
BEGIN:DAYLIGHT
TZOFFSETFROM:+0100
TZOFFSETTO:+0200
TZNAME:CEST
DTSTART:20250330T010000
END:DAYLIGHT
BEGIN:STANDARD
TZOFFSETFROM:+0200
TZOFFSETTO:+0100
TZNAME:CET
DTSTART:20251026T010000
END:STANDARD
BEGIN:DAYLIGHT
TZOFFSETFROM:+0100
TZOFFSETTO:+0200
TZNAME:CEST
DTSTART:20260329T010000
END:DAYLIGHT
BEGIN:STANDARD
TZOFFSETFROM:+0200
TZOFFSETTO:+0100
TZNAME:CET
DTSTART:20261025T010000
END:STANDARD
END:VTIMEZONE
BEGIN:VEVENT
DTSTART;VALUE=DATE:20250927
DTEND;VALUE=DATE:20251103
DTSTAMP:20260423T141739
CREATED:20251001T060249Z
LAST-MODIFIED:20251001T100036Z
UID:6257-1758931200-1762127999@www.burg-rheinfels.org
SUMMARY:Kunstausstellung "Neun Positionen" Kunstverein Duisburg
DESCRIPTION:  \n  \n  \n  \n  \n  \n  \n  \nKunstausstellung „Neun Positionen“ von Mitgliedern des Kunstvereins Duisburg \nKünstler: Ina Buskens\, Marayle Küpper\, Dorothee Impelmann\, Zorika Kremer\, Angelika Ruckdeschel\, Sinem Tuközoglu\, Wilfried Weiß \nVernissage am 27. September\, 18 Uhr. \nVeranstaltungsort: Treidlergalerie „Große Wachstube“ Burg Rheinfels\, St. Goar \nDie Treidlergalerie hat geöffnet: Samstags und Sonntags sowie an Feiertagen von 11 bis 16 Uhr. Der Eintritt ist frei. \n 
URL:https://www.burg-rheinfels.org/veranstaltungen/kunstausstellung-neun-positionen-kunstverein-duisburg/
LOCATION:Burg Rheinfels in St. Goar\, Schlossberg 47\, St. Goar\, 56329\, Germany
CATEGORIES:Event
ORGANIZER;CN="Stadt Sankt Goar":MAILTO:kerstin.haasenritter@stadt-st-goar.de
END:VEVENT
END:VCALENDAR